BEGIN:VCALENDAR
VERSION:2.0
PRODID:-//eventon.com NONSGML v1.0//EN
CALSCALE:GREGORIAN
METHOD:PUBLISH
BEGIN:VEVENT
UID:69e9812336ef1
DTSTAMP:20260423T021707Z
DTSTART:20231013T140000Z
DTEND:20231013T200000Z
LOCATION:Big Springs Country Club 5901 Dutchman's Lane
SUMMARY:Golf with Travis (10.13.23)
DESCRIPTION:Enjoy a round of golf with Travis and two of your friends at Bi
 g Springs Country Club or Harmony Landing Country Club in Louisville\,  KY.
  Lunch and refreshments provided. Dates and tee times are subject to availa
 bility.\nhttps://investmentanswers.net/event/golf-with-travis-10-13-23/
URL:https://investmentanswers.net/event/golf-with-travis-10-13-23/
END:VEVENT
END:VCALENDAR