BEGIN:VCALENDAR
VERSION:2.0
PRODID:-//eventon.com NONSGML v1.0//EN
CALSCALE:GREGORIAN
METHOD:PUBLISH
BEGIN:VEVENT
UID:69ea3a9094617
DTSTAMP:20260423T152816Z
DTSTART:20230602T140000Z
DTEND:20230602T200000Z
LOCATION:Big Springs Country Club 5901 Dutchman's Lane
SUMMARY:Golf with Travis (6.2.23) WAITLIST
DESCRIPTION:&#8211; WAITLIST &#8211; Enjoy a round of golf with Travis and 
 two of your friends at Big Springs Country Club or Harmony Landing Country 
 Club in Louisville\,  KY. Lunch and refreshments provided. Dates and tee ti
 mes are subject to availability. Even on a Waitlist\,  we recommend making 
 an RSVP. Oftentimes[..]\nhttps://investmentanswers.net/event/golf-with-trav
 is-6-2-23/
URL:https://investmentanswers.net/event/golf-with-travis-6-2-23/
END:VEVENT
END:VCALENDAR