BEGIN:VCALENDAR
VERSION:2.0
PRODID:-//eventon.com NONSGML v1.0//EN
CALSCALE:GREGORIAN
METHOD:PUBLISH
BEGIN:VEVENT
UID:69e971f6a7dc7
DTSTAMP:20260423T011222Z
DTSTART:20200610T220000Z
DTEND:20200611T000000Z
LOCATION:Investment Answers Office 4205 Springhurst Blvd. Suite 102\,  <br>Louisville\,  KY
SUMMARY:Sample Event (Copy)
DESCRIPTION:Has the weight of tax season cluttered up your home? You are in
 vited to securely shred up to five boxes of paper documents. Please remove 
 all binder and paper clips (staples are acceptable). Watch the documents ge
 t pulverized through the camera that All-Shred provides. *We reserve the ri
 ght to decline[..]\nhttps://investmentanswers.net/event/sample-event-copy/
URL:https://investmentanswers.net/event/sample-event-copy/
END:VEVENT
END:VCALENDAR